BEGIN:VCALENDAR
VERSION:2.0
PRODID:-//Abuso.co - ECPv5.1.3//NONSGML v1.0//EN
CALSCALE:GREGORIAN
METHOD:PUBLISH
X-WR-CALNAME:Abuso.co
X-ORIGINAL-URL:https://abuso.co
X-WR-CALDESC:Events for Abuso.co
BEGIN:VTIMEZONE
TZID:UTC
BEGIN:STANDARD
TZOFFSETFROM:+0000
TZOFFSETTO:+0000
TZNAME:UTC
DTSTART:20200101T000000
END:STANDARD
END:VTIMEZONE
BEGIN:VEVENT
DTSTART;TZID=UTC:20200209T093000
DTEND;TZID=UTC:20221124T170000
DTSTAMP:20260425T031355
CREATED:20190604T031906Z
LAST-MODIFIED:20200204T064420Z
UID:1036-1581240600-1669309200@abuso.co
SUMMARY:Cupcake Decorating
DESCRIPTION:Who’s that then? Shh! Knights\, I bid you welcome to your new home. Let us ride to Camelot! Ah\, now we see the violence inherent in the system! The Lady of the Lake\, her arm clad in the purest shimmering samite\, held aloft Excalibur from the bosom of the water\, signifying by divine providence that I\, Arthur\, was to carry Excalibur. That is why I am your king. Camelot! \n
URL:https://abuso.co/event/cupcake-decorating/
LOCATION:Sproule Circuit\, Evatt\, Australian Capital Territory \, Australia
CATEGORIES:Charity,Health
ATTACH;FMTTYPE=image/jpeg:https://abuso.co/wp-content/uploads/2017/06/image-46.jpg
END:VEVENT
END:VCALENDAR